BEGIN:VCALENDAR
VERSION:2.0
PRODID:-//hacksw/handcal//NONSGML v1.0//EN
CALSCALE:GREGORIAN
BEGIN:VEVENT
LOCATION:Via SIcilia\, 14 -  C/O C.P.O. - Messina
DESCRIPTION:Referente: Ufficio Marketing Sistemi Contatti: marketing@sistemi.com - 011/4019650
DTSTART:20230622T143000CEUTC
DTEND:20230622T180000CEUTC
SUMMARY:Evento &#8220\;Rimborsi spese e fringe benefit&#8221\; con l’Ordine dei CDL\, ANCL e Associazione Giovani CDL di Messina
URL;VALUE=URI:
DTSTAMP:20260425T223016CEUTC
UID:69ed40788f68e
END:VEVENT
END:VCALENDAR