BEGIN:VCALENDAR
VERSION:2.0
PRODID:-//hacksw/handcal//NONSGML v1.0//EN
CALSCALE:GREGORIAN
BEGIN:VEVENT
LOCATION:C.C. GIOVANNI XXIII<br>VIALE PAPA GIOVANNI XXIII\, 106 - Bergamo
DESCRIPTION:Referente: Ufficio Marketing Contatti: marketing@sistemi.com - 011/4019650
DTSTART:20191121T143000CEUTC
DTEND:20191121T183000CEUTC
SUMMARY:Bergamo – Master tributario “Codice della crisi:  adeguati assetti amministrativi e ruolo degli organi di controllo”
URL;VALUE=URI:
DTSTAMP:20260419T095801CEUTC
UID:69e4a729a9b0e
END:VEVENT
END:VCALENDAR