BEGIN:VCALENDAR
VERSION:2.0
PRODID:-//hacksw/handcal//NONSGML v1.0//EN
CALSCALE:GREGORIAN
BEGIN:VEVENT
LOCATION:Zanhotel Europa<br>Via Cesare Boldrini\, 11 - Bologna
DESCRIPTION:Referente: Ufficio Marketing Contatti: marketing@sistemi.com - 011/4019650
DTSTART:20190611T090000CEUTC
DTEND:20190611T130000CEUTC
SUMMARY:Bologna &#8211\; Dagli studi di settore agli ISA
URL;VALUE=URI:
DTSTAMP:20260425T095125CEUTC
UID:69ec8e9d83212
END:VEVENT
END:VCALENDAR