BEGIN:VCALENDAR
VERSION:2.0
PRODID:-//hacksw/handcal//NONSGML v1.0//EN
CALSCALE:GREGORIAN
BEGIN:VEVENT
LOCATION:Cantine Vite Colte - Via Bergesia\, 6 - Barolo (Cuneo)
DESCRIPTION:Referente: Ufficio Marketing Sistemi Contatti: marketing@sistemi.com - 011/4019650
DTSTART:20240319T163000CEUTC
DTEND:20240319T190000CEUTC
SUMMARY:Barolo\, convegno &#8220\;Etichettatura vinicola: novità normative e impatto sui processi aziendali”
URL;VALUE=URI:
DTSTAMP:20260419T101920CEUTC
UID:69e4ac28e1a58
END:VEVENT
END:VCALENDAR