BEGIN:VCALENDAR
VERSION:2.0
PRODID:-//hacksw/handcal//NONSGML v1.0//EN
CALSCALE:GREGORIAN
BEGIN:VEVENT
LOCATION:Le Village by CA - Milano
DESCRIPTION:Referente: Ufficio Marketing Sistemi Contatti: marketing@sistemi.com - 011/4019650
DTSTART:20251106T091500CEUTC
DTEND:20251106T130000CEUTC
SUMMARY:Sistemi è sponsor del Wine Tech Symposium
URL;VALUE=URI:
DTSTAMP:20260421T203407CEUTC
UID:69e7df3fe4c7f
END:VEVENT
END:VCALENDAR