BEGIN:VCALENDAR
VERSION:2.0
PRODID:-//hacksw/handcal//NONSGML v1.0//EN
CALSCALE:GREGORIAN
BEGIN:VEVENT
LOCATION:Webinar - On line
DESCRIPTION:Referente: Ufficio Marketing Sistemi Contatti: marketing@sistemi.com - 011/4019650
DTSTART:20220912T150000CEUTC
DTEND:20220912T170000CEUTC
SUMMARY:Webinar “La continuità aziendale nella prospettiva economico finanziaria” con l’ODCEC di Busto Arsizio.
URL;VALUE=URI:
DTSTAMP:20260419T102433CEUTC
UID:69e4ad61988df
END:VEVENT
END:VCALENDAR