BEGIN:VCALENDAR
VERSION:2.0
PRODID:-//hacksw/handcal//NONSGML v1.0//EN
CALSCALE:GREGORIAN
BEGIN:VEVENT
LOCATION:Web o Presenza - Webinar o Aula
DESCRIPTION:Referente: Ufficio Marketing Contatti: marketing@sistemi.com - 011/4019650
DTSTART:20220411T093000CEUTC
DTEND:20220513T183000CEUTC
SUMMARY:Master Eutekne 7^ giornata: “La gestione della dichiarazione dei redditi delle società: analisi delle novità&#8221\;. <BR> &#8220\;Casi e questioni dichiarative: reddito d’impresa\, redditi esteri\, fiscalità delle holding di famiglia\, crediti d’imposta”.
URL;VALUE=URI:
DTSTAMP:20260419T133309CEUTC
UID:69e4d995372a1
END:VEVENT
END:VCALENDAR