BEGIN:VCALENDAR
VERSION:2.0
PRODID:-//hacksw/handcal//NONSGML v1.0//EN
CALSCALE:GREGORIAN
BEGIN:VEVENT
LOCATION:M15-Magazzini delle Professioni\, Via Santa Teresa\, 2 - Verona
DESCRIPTION:Referente: Ufficio Marketing Contatti: marketing@sistemi.com - 011/4019650
DTSTART:20251028T093000CEUTC
DTEND:20251028T123000CEUTC
SUMMARY:Evento “Welfare aziendale\, fringe benefit novità e detassazione: casi pratici di opportunità e convenienza” con l&#8217\;Ordine CdL di Verona
URL;VALUE=URI:
DTSTAMP:20260424T042858CEUTC
UID:69eaf18a6e222
END:VEVENT
END:VCALENDAR