BEGIN:VCALENDAR
VERSION:2.0
PRODID:-//hacksw/handcal//NONSGML v1.0//EN
CALSCALE:GREGORIAN
BEGIN:VEVENT
LOCATION:Sede dell’Ordine CDL Via Archimede\, 114 - Ragusa
DESCRIPTION:Referente:  Ufficio Marketing Contatti:  marketing@sistemi.com - 011/4019650
DTSTART:20260428T150000CEUTC
DTEND:20260428T190000CEUTC
SUMMARY:Evento  &#8220\;La riforma del lavoro sportivo. La gestione pratica dei rapporti di lavoro&#8221\; con l&#8217\;Ordine dei Consulenti del Lavoro - Ragusa
URL;VALUE=URI:
DTSTAMP:20260424T154903CEUTC
UID:69eb90ef1fd48
END:VEVENT
END:VCALENDAR