BEGIN:VCALENDAR
VERSION:2.0
PRODID:-//hacksw/handcal//NONSGML v1.0//EN
CALSCALE:GREGORIAN
BEGIN:VEVENT
LOCATION:Sede ODCEC Via M. Delfico\, 6 - Teramo
DESCRIPTION:Referente: Ufficio Marketing Contatti: marketing@sistemi.com - 011/4019650
DTSTART:20250218T090000CEUTC
DTEND:20250218T130000CEUTC
SUMMARY:Teramo\, evento Eutekne-Sistemi  &#8220\;Dal ravvedimento speciale alle assegnazioni agevolate beni ai soci: le novità fiscali 2025&#8221\;
URL;VALUE=URI:
DTSTAMP:20260422T165206CEUTC
UID:69e8fcb667dba
END:VEVENT
END:VCALENDAR