BEGIN:VCALENDAR
VERSION:2.0
PRODID:-//hacksw/handcal//NONSGML v1.0//EN
CALSCALE:GREGORIAN
BEGIN:VEVENT
LOCATION:Diretta  - Webinar
DESCRIPTION:Referente: Ufficio Marketing Contatti: marketing@sistemi.com - 011/4019650
DTSTART:20220222T093000CEUTC
DTEND:20220222T133000CEUTC
SUMMARY:Master lavoro Eutekne 4^ giornata: &#8220\;Contrattazione di II livello e regolamento aziendale&#8221\;
URL;VALUE=URI:
DTSTAMP:20260419T153302CEUTC
UID:69e4f5aecced7
END:VEVENT
END:VCALENDAR