BEGIN:VCALENDAR
VERSION:2.0
PRODID:-//hacksw/handcal//NONSGML v1.0//EN
CALSCALE:GREGORIAN
BEGIN:VEVENT
LOCATION:Evento - Webinar
DESCRIPTION:Referente:  Ufficio Marketing Sistemi Contatti: marketing@sistemi.com - 011/4019650
DTSTART:20260430T100000CEUTC
DTEND:20260430T130000CEUTC
SUMMARY:Evento “Trasparenza retributiva: adeguarsi agli obblighi della Direttiva UE e impostare nuovi modelli organizzativi” con l&#8217\;Ordine dei Consulenti del Lavoro - Webinar
URL;VALUE=URI:
DTSTAMP:20260423T110958CEUTC
UID:69e9fe06aca9c
END:VEVENT
END:VCALENDAR