BEGIN:VCALENDAR
VERSION:2.0
PRODID:-//hacksw/handcal//NONSGML v1.0//EN
CALSCALE:GREGORIAN
BEGIN:VEVENT
LOCATION:Diretta  - Webinar
DESCRIPTION:Referente: Ufficio Marketing Contatti: marketing@sistemi.com - 011/4019650
DTSTART:20211221T093000CEUTC
DTEND:20211221T133000CEUTC
SUMMARY:Master lavoro Eutekne 2^ giornata: &#8220\;“Strumenti alternativi al licenziamento per motivi oggettivi” – “Esonero contributivo per l’assunzione di donne disoccupate”
URL;VALUE=URI:
DTSTAMP:20260419T153344CEUTC
UID:69e4f5d862d61
END:VEVENT
END:VCALENDAR