BEGIN:VCALENDAR
VERSION:2.0
PRODID:-//hacksw/handcal//NONSGML v1.0//EN
CALSCALE:GREGORIAN
BEGIN:VEVENT
LOCATION:Evento - E-learning
DESCRIPTION:Referente: Ufficio Marketing Contatti: marketing@sistemi.com - 011/4019650
DTSTART:20241023T143000CEUTC
DTEND:20241023T173000CEUTC
SUMMARY:Evento e-learning “Gli adempimenti dei professionisti in materia di antiriciclaggio” con l’ODCEC di Bologna
URL;VALUE=URI:
DTSTAMP:20260424T184949CEUTC
UID:69ebbb4d63fbe
END:VEVENT
END:VCALENDAR