BEGIN:VCALENDAR
VERSION:2.0
PRODID:-//hacksw/handcal//NONSGML v1.0//EN
CALSCALE:GREGORIAN
BEGIN:VEVENT
LOCATION:Magazzini delle Professioni\, Via Santa Teresa\, 2 - Verona
DESCRIPTION:Referente: Ufficio Marketing Contatti: marketing@sistemi.com - 011/4019650
DTSTART:20260316T093000CEUTC
DTEND:20260316T130000CEUTC
SUMMARY:Evento “Il lavoro degli stranieri in Italia” con l&#8217\;ANCL di Verona
URL;VALUE=URI:
DTSTAMP:20260425T223014CEUTC
UID:69ed4076662d6
END:VEVENT
END:VCALENDAR