BEGIN:VCALENDAR
VERSION:2.0
PRODID:-//hacksw/handcal//NONSGML v1.0//EN
CALSCALE:GREGORIAN
BEGIN:VEVENT
LOCATION:Evento E-Learning gratuito - con l'ODCEC
DESCRIPTION:Referente: Ufficio Marketing Contatti: marketing@sistemi.com - 011/4019650
DTSTART:20240517T150000CEUTC
DTEND:20240417T170000CEUTC
SUMMARY:Evento e-learning “La Business Intelligence in studio valorizza i servizi ai clienti e migliora l’organizzazione” con l’ODCEC di Torino
URL;VALUE=URI:
DTSTAMP:20260420T170013CEUTC
UID:69e65b9dcb5da
END:VEVENT
END:VCALENDAR