BEGIN:VCALENDAR
VERSION:2.0
PRODID:-//hacksw/handcal//NONSGML v1.0//EN
CALSCALE:GREGORIAN
BEGIN:VEVENT
LOCATION:AURUM - Largo Gardone Riviera - Pescara 
DESCRIPTION:Referente: Ufficio Marketing Sistemi Contatti: marketing@sistemi.com - 011/4019650
DTSTART:20221111T104500CEUTC
DTEND:20221112T134500CEUTC
SUMMARY:Pescara &#8211\; Festival dell&#8217\;Innovazione
URL;VALUE=URI:
DTSTAMP:20260420T221501CEUTC
UID:69e6a565dfd98
END:VEVENT
END:VCALENDAR