BEGIN:VCALENDAR
VERSION:2.0
PRODID:-//hacksw/handcal//NONSGML v1.0//EN
CALSCALE:GREGORIAN
BEGIN:VEVENT
LOCATION:webinar - online
DESCRIPTION:Referente: Ufficio Marketing Sistemi Contatti: marketing@sistemi.com - 011-4019650
DTSTART:20210305T100000CEUTC
DTEND:20210305T183000CEUTC
SUMMARY:Webinar &#8211\; Giornata di studio per i Commercialisti del Triveneto
URL;VALUE=URI:
DTSTAMP:20260424T141520CEUTC
UID:69eb7af822445
END:VEVENT
END:VCALENDAR