BEGIN:VCALENDAR
VERSION:2.0
PRODID:-//hacksw/handcal//NONSGML v1.0//EN
CALSCALE:GREGORIAN
BEGIN:VEVENT
LOCATION:Zanhotel Europa<br>Via Cesare Boldrini\, 11 - Bologna
DESCRIPTION:Referente: Ufficio Marketing Contatti: marketing@sistemi.com - 011/4019650
DTSTART:20190530T090000CEUTC
DTEND:20190530T130000CEUTC
SUMMARY:Bologna &#8211\; Il processo tributario telematico
URL;VALUE=URI:
DTSTAMP:20260419T114859CEUTC
UID:69e4c12b550a3
END:VEVENT
END:VCALENDAR