BEGIN:VCALENDAR
VERSION:2.0
PRODID:-//hacksw/handcal//NONSGML v1.0//EN
CALSCALE:GREGORIAN
BEGIN:VEVENT
LOCATION:Webinar - o aula
DESCRIPTION:Referente: Ufficio Marketing Contatti: marketing@sistemi.com - 011/4019650
DTSTART:20240115T093000CEUTC
DTEND:20240201T183000CEUTC
SUMMARY:Master Eutekne gennaio: “Leggi di bilancio e novità di fine anno”
URL;VALUE=URI:
DTSTAMP:20260423T155336CEUTC
UID:69ea4080d188e
END:VEVENT
END:VCALENDAR