BEGIN:VCALENDAR
VERSION:2.0
PRODID:-//hacksw/handcal//NONSGML v1.0//EN
CALSCALE:GREGORIAN
BEGIN:VEVENT
LOCATION:Sede Ordine CDL Enna - Via Pergusa\, 62 - Enna
DESCRIPTION:Referente: Ufficio Marketing Sistemi Contatti: marketing@sistemi.com - 011/4019650
DTSTART:20230623T093000CEUTC
DTEND:20230623T123000CEUTC
SUMMARY:Evento &#8220\;Rimborsi spese e fringe benefit&#8221\; con l’Ordine dei CDL e ANCL di Enna
URL;VALUE=URI:
DTSTAMP:20260420T003752CEUTC
UID:69e575601d1fd
END:VEVENT
END:VCALENDAR