BEGIN:VCALENDAR
VERSION:2.0
PRODID:-//hacksw/handcal//NONSGML v1.0//EN
CALSCALE:GREGORIAN
BEGIN:VEVENT
LOCATION:DB Hotel  - Verona
DESCRIPTION:Referente: Ufficio Marketing Contatti: marketing@sistemi.com - 011/4019650
DTSTART:20190917T090000CEUTC
DTEND:20190917T130000CEUTC
SUMMARY:Verona &#8211\; Gli ISA nelle dichiarazioni 2019: ultima ora
URL;VALUE=URI:
DTSTAMP:20260422T045613CEUTC
UID:69e854ed45ffa
END:VEVENT
END:VCALENDAR