BEGIN:VCALENDAR
VERSION:2.0
PRODID:-//hacksw/handcal//NONSGML v1.0//EN
CALSCALE:GREGORIAN
BEGIN:VEVENT
LOCATION:Solbiate Olona - HOTEL LE ROBINIE\, Via per Busto Arsizio 9
DESCRIPTION:Referente: Ufficio Marketing Sistemi Contatti: marketing@sistemi.com - 011-4019650
DTSTART:20171120T143000CEUTC
DTEND:20171120T183000CEUTC
SUMMARY:Bergamo\, Master di aggiornamento tributario accreditato per i Commercialisti.
URL;VALUE=URI:
DTSTAMP:20260423T101822CEUTC
UID:69e9f1ee9aaac
END:VEVENT
END:VCALENDAR